BEGIN:VCALENDAR
VERSION:2.0
PRODID:-// - ECPv6.15.20//NONSGML v1.0//EN
CALSCALE:GREGORIAN
METHOD:PUBLISH
X-ORIGINAL-URL:https://powerstyleradio.com
X-WR-CALDESC:Events for 
REFRESH-INTERVAL;VALUE=DURATION:PT1H
X-Robots-Tag:noindex
X-PUBLISHED-TTL:PT1H
BEGIN:VTIMEZONE
TZID:America/Chicago
BEGIN:DAYLIGHT
TZOFFSETFROM:-0600
TZOFFSETTO:-0500
TZNAME:CDT
DTSTART:20140309T080000
END:DAYLIGHT
BEGIN:STANDARD
TZOFFSETFROM:-0500
TZOFFSETTO:-0600
TZNAME:CST
DTSTART:20141102T070000
END:STANDARD
BEGIN:DAYLIGHT
TZOFFSETFROM:-0600
TZOFFSETTO:-0500
TZNAME:CDT
DTSTART:20150308T080000
END:DAYLIGHT
BEGIN:STANDARD
TZOFFSETFROM:-0500
TZOFFSETTO:-0600
TZNAME:CST
DTSTART:20151101T070000
END:STANDARD
BEGIN:DAYLIGHT
TZOFFSETFROM:-0600
TZOFFSETTO:-0500
TZNAME:CDT
DTSTART:20160313T080000
END:DAYLIGHT
BEGIN:STANDARD
TZOFFSETFROM:-0500
TZOFFSETTO:-0600
TZNAME:CST
DTSTART:20161106T070000
END:STANDARD
END:VTIMEZONE
BEGIN:VEVENT
DTSTART;TZID=America/Chicago:20150321T173000
DTEND;TZID=America/Chicago:20150321T235500
DTSTAMP:20260424T153425
CREATED:20150208T181540Z
LAST-MODIFIED:20150227T222735Z
UID:375-1426959000-1426982100@powerstyleradio.com
SUMMARY:MASTER THE ART 12 (MI)
DESCRIPTION:Michigan’s biggest jam is back for its 12th year!\nLocation: 530 State Street\, Ann Arbor Michigan\nUnion Rogel Ballroom 2nd Floor\nEntrance $15\nCompetitors enter at 5:30 PM\nSpectators enter at 8 PM (After Prelims)\nBboy DJ: Kanton (Flock – PA)\nAll-Styles DJ: TBA\nHosts:\nSeoul (61syx Technique/GSK)\nMav-One (Motor City Rockerz)\nBREAKING 3V3\n1st Place Prize: $900\n2nd Place Prize: $300\nPRELIMS @ 6 PM\nJudges:\n1. Ookie (Clique – PA)\nhttps://www.youtube.com/watch?v=5gZLRiImnyk\n2. Onton (Supernaturalz – Toronto)\nhttps://www.youtube.com/watch?v=kaB8vTQMPcQ\n3. Swellz One (Fallen Kingz – MN)\nhttps://www.youtube.com/watch?v=ezmHtP6tE1s\nALL-STYLES 1v1\n1st Place Prize: $250\nPRELIMS @ 7 PM\nJudges:\n1. Sneeks (Chicago Tribe)\nhttps://www.youtube.com/watch?v=6vruzzJslAQ\n2. Born (Rivers/Floorgangz/MZK/Ready to Rock)\nhttps://www.youtube.com/watch?v=aJgcyLzPsNY\n3. Soul (Ill Minded Styles/GCOS/Soulbotics Krew/Sourpatch Crew)\nhttps://www.youtube.com/watch?v=yrVx8V4yVzk\nWORKSHOPS by:\nOnton (Supernaturalz – Toronto)\n-Supernaturalz Footwork Philosophy (Footwork\, Legwork\, Threads)\nand\nSwellz One (Fallen Kingz – MN) (more info to come)\nand\nPigmie (more info to come)
URL:https://powerstyleradio.com/events/master-the-art-12/
LOCATION:Michigan Union\, 530 State Street\, Ann Arbor\, MI\, 48109\, United States
CATEGORIES:Battles
ATTACH;FMTTYPE=image/jpeg:https://powerstyleradio.com/wp-content/uploads/2015/02/master_the_art.jpg
END:VEVENT
BEGIN:VEVENT
DTSTART;TZID=America/Chicago:20150314T170000
DTEND;TZID=America/Chicago:20150314T230000
DTSTAMP:20260424T153425
CREATED:20150113T021322Z
LAST-MODIFIED:20150113T021322Z
UID:164-1426352400-1426374000@powerstyleradio.com
SUMMARY:LCBB // OPEN 1VS1
DESCRIPTION:Stylin Out\, AC CASTRO\, and JET GEAR bring you\nLake County’s Best Break-Dancer Qualifier & an open 1vs1 bboy battle\n2 Battles in one hype Night.\nLCBB Qualifier- For Lake County Bboys/Bgirls only.\nTop 4 will compete on stage in April @ Lake County’s Best Dance Crew for title of LCBB Champion.\nPrize- $100\nAnd also 1v1 bboy/bgirl battle. prize- $100\n***\nExhibitions\nK.I.N VS REKLESS CREW\nStyle Drones vs Code Breakers\n***\nAlso open 1v1 14 and under Bboy/Bgirl Battle.\nPrize- tba\nJudges:\nJfunky\nGp Slick- Last years winner\nTwigg\nDJ- Virgil7\nHost- Wayne Gravy\nCost- $7\nSponsored by Jet Gear.
URL:https://powerstyleradio.com/events/lcbb-and-open-1vs1/
LOCATION:Jet Gear Warehouse\, 2901 Delany\, Waukegan IL\, IL\, 60087\, United States
CATEGORIES:Battles
ATTACH;FMTTYPE=image/jpeg:https://powerstyleradio.com/wp-content/uploads/2015/01/LCBB.jpg
END:VEVENT
BEGIN:VEVENT
DTSTART;TZID=America/Chicago:20150228T170000
DTEND;TZID=America/Chicago:20150228T235500
DTSTAMP:20260424T153425
CREATED:20150227T220848Z
LAST-MODIFIED:20150227T222641Z
UID:408-1425142800-1425167700@powerstyleradio.com
SUMMARY:BATTLEGROUNDZ : ROAD TO THE CHAMPIONSHIP (OH)
DESCRIPTION:Tickets to battle & watch now available at https://www.eventbrite.com/e/battlegroundz-street-dance-competiton-columbus-qualifier-tickets-15129072463\nFor spectators: $10 online & $15 at the door\n——\nOn February 28th\, I AM D.A.N.C.E LLC will open the Road to Battlegroundz Championship with the first qualifier in Columbus\, Ohio. One competitor in each of the two categories\, All-Styles and B-Boy/B-Girl\, will move on to battle for the grand prize at the Championship later in the year. The battles will be in two separate rooms with two separate Djs rocking the whole night. We will continue update this page with more info !!\n——\nLike our new Facebook page for more info on Battlegroundz\, photos\, videos\, and future events: https://www.facebook.com/iadbattlegroundz\n—–\nJUDGES:\nBZBOOX\nTYQUAN\nJULIAN MENDEZ \nSOUL\nSTANDIN O\nREMIX\n——-\nDJ\nDEDIKATE\nDUSKII
URL:https://powerstyleradio.com/events/battlegroundz-road-to-the-championship/
LOCATION:King Arts Complex\, 867 Mt Vernon Ave\, Columbus\, 43203
CATEGORIES:Battles
ATTACH;FMTTYPE=image/jpeg:https://powerstyleradio.com/wp-content/uploads/2015/02/Battlegroundz.jpg
END:VEVENT
BEGIN:VEVENT
DTSTART;TZID=America/Chicago:20150228T160000
DTEND;TZID=America/Chicago:20150228T220000
DTSTAMP:20260424T153425
CREATED:20150113T020245Z
LAST-MODIFIED:20150227T223437Z
UID:161-1425139200-1425160800@powerstyleradio.com
SUMMARY:Shut Up & Battle 4
DESCRIPTION:Ground Motion Break School & PaperTrail presents Shut Up & Battle 4\nBattles: 2vs2 Young’n battle: $100 cash prize + plaque.\n2vs2 Bboy/Bgirl Battle: $500 cash prize + plaque.\nPower Battle: $50 + plaque\nA dope exhibition between 2 heavy hitters: Chia (minnesota) vs Lil Ivan (Self X)\n“Who’s Your Daddy” 7 to smoke invites: Waka (bhz)\, Mijo (mdc)\, Alex (mdc)\,Moks (mdc)\, Omega (tba/gsk)\, Jboogs (selfx)\, LouCypher (gsk)\nJudges: Wicked (phaze II)\, Seoul (61syx/GSK)\, Wolf (BMF/ENI)\nOn the 1’s and 2’s: Dj Fast $ Mike\nBeer and food for sale\, raffles and some dope vendors!!\nEntry Fee: $5 for kids under 13 yrs old\n$10 everyone else
URL:https://powerstyleradio.com/events/shut-up-battle-4/
LOCATION:The Box Chicago\, 1415 North Ashland Avenue\, Chicago\, IL\, 60622\, United States
CATEGORIES:Battles
ATTACH;FMTTYPE=image/jpeg:https://powerstyleradio.com/wp-content/uploads/2015/01/SUB4.jpg
END:VEVENT
BEGIN:VEVENT
DTSTART;TZID=America/Chicago:20150228T140000
DTEND;TZID=America/Chicago:20150228T200000
DTSTAMP:20260424T153425
CREATED:20150227T220005Z
LAST-MODIFIED:20150227T220045Z
UID:403-1425132000-1425153600@powerstyleradio.com
SUMMARY:Kings of the Midwest 2015 (MN)
DESCRIPTION:UBREAK presents…\nKINGS OF THE MIDWEST 2015\nGENERAL ADMISSION:\n$5 // Kids under 10 get in FREE\nUofM students get in FREE w/Student ID\nDATE/TIME:\nSaturday\, Feb. 28\, 2015\n2PM-8PM (Prelims at 3:30PM)\n\nJUDGES:\nStepChild (Battle Cats/ TBB ChainSmokers Division)\nJSun (Battle Cats)\nEl Nino (Floor Lords/The Squadron) \nBEATS & BREAKS:\nDJ B-Ryan (Little Green Apples)\nDJ Los Boogie (WarMachine DJs/Break Cops) \nMC:\nBoogie B (Optimistic/War Machine) \nBATTLES:\n3VS3: $600.00 1ST PLACE PRIZE\n(Prelims begin at 3:30PM)(Top 16) \n& \n1VS1 Power Battle\n(Power Battle prelims begin at 6:00PM)\nTop 4 will battle for $100 CASH PRIZE \n————————–————————–————————––\n3 VS 3 Pre-Registered Crews:\nhttps://www.facebook.com/notes/ubreak-umn/kings-of-the-midwest-2015-3vs3-pre-registration/602305626579586?pnref=story\nTo pre-register\, please message UBreak Umn your crew name\, members battling\, and your city and state!
URL:https://powerstyleradio.com/events/kings-of-the-midwest-2015-mn/
LOCATION:St. Paul Student Center\, 2017 Buford Ave\, Saint Paul\, MN\, 55108\, United States
CATEGORIES:Battles
ATTACH;FMTTYPE=image/jpeg:https://powerstyleradio.com/wp-content/uploads/2015/02/kingofmidwest.jpg
END:VEVENT
BEGIN:VEVENT
DTSTART;TZID=America/Chicago:20150228T130000
DTEND;TZID=America/Chicago:20150228T180000
DTSTAMP:20260424T153425
CREATED:20150227T220607Z
LAST-MODIFIED:20150227T222609Z
UID:406-1425128400-1425146400@powerstyleradio.com
SUMMARY:Honor the Warriors//Jam For Food//Dance For Justice (WI)
DESCRIPTION:All Styles Battle (all ages)\n1 vs 1\nPrize: $50 + Trophy\nJunior Breakin’ Battle (13 & under)\n2 vs 2\nPrize: $75 + Individual Trophies\nSeniors Breakin’ Battle (14 & over)\n5 vs 5\nPrize: $100 + Individual Trophies\nJudges:\nVicMonsta (MidWest Monsta Crew/Rockford\, IL)\nDuka (Gravity Benders Crew/Milwaukee\, WI)\nBgirl Darth Mayder (Hip Hop Movement/Madison\, WI)\nDJ:\nYosha (Gravity Benders Crew/Milwaukee\, WI)\nCheck out\, like & also share Yosha’s fan page here: https://m.facebook.com/yoshaaaaa\nMC:\nCrumbles (GBC & BMF/Milwaukee\, WI/)\nDate: Saturday 2/28/14\nTime: 1pm – 6pm\n1pm – 3pm……..Preteens Dance/Open Cypher for all with music by DJ Fabulust (SpeakerBoxx DJ’s/Madison\, WI).\n3pm – 6pm……..The battles begin!\nRegistration Time: 1pm – 3pm.\nPlace: East Madison Community Center (EMCC)\n8 Straubel Court\nMadison\, WI 53704\n608-249-0861\nIt’s that time again when we’re giving back to the community! As a collaborative effort a few different organizations have come together to host Honor The Warriors 2 and Jam For Food 4 together\, all under one roof.\nCover charge: FREE EVENT but donations accepted to help the EMCC neighborhood families (non-perishable food & personal care items – shampoo\, toothpaste\, toilet paper\, deodorant\, etc.)\nPresented to you by: Dane Arts\, East Madison Community Center\, Madison School & Community Recreation\, So Siab Care\, Omega Delta Phi and MadTown Breakers.\nDo you have questions? You can contact:\nSashe Mishur (EMCC Hip Hop Organizer/Youth Worker)\n(608)249-0861\nTauri Robinson (MSCR East High School/Director & Organizer)\n(608) 204-1752\nMayder Lor (MSCR East High School/Assistant Director/Hip Hop Instructor & Organizer)\n(608) 204-1752\nhttps://www.facebook.com/mayder.lor\n(Feel free to contact me via FB for more info. thanks! —-Mayder Lor—-)\nPlease stay tuned\, some things may subject to change…..But I’ll keep you all posted\, thanks for your patience everyone and we hope to see you all there!
URL:https://powerstyleradio.com/events/honor-the-warriorsjam-for-fooddance-for-justice/
LOCATION:East Madison Community Center\,  8 Straubel Ct\,  Madison\, WI\, 53704\, United States
CATEGORIES:Battles
END:VEVENT
BEGIN:VEVENT
DTSTART;TZID=America/Chicago:20150221T170000
DTEND;TZID=America/Chicago:20150221T230000
DTSTAMP:20260424T153425
CREATED:20150113T014644Z
LAST-MODIFIED:20150113T221334Z
UID:157-1424538000-1424559600@powerstyleradio.com
SUMMARY:HEARTZ & MINDZ PT. DEUX
DESCRIPTION:Presented by: The Pro Breaking Tour & Sanctioned by UDEF\n……………..PRO BREAKING TOUR UDEFtour.org……………..\nALL-STYLEZ\, BREAKIN\, EXBOS AND CASH MONEY…. ALL IN THE NAME OF RAISING AWARENESS FOR HEART DISEASE…..\nLAST YEAR IT WAS A COMPLETE SUCCESS….WE HOPE TO DO THE SAME THIS YEAR….\n……………..BREAKIN ARENA…………………….\n_________3V3 ________\n!ST PLACE $1\,500\n2ND PLACE $750\n3RD PLACE $450\n4TH PLACE $450\nHeartz & Mindz is a Pro Breaking Tour Futures Series event\nCompetitors who wish to be eligible to compete in the 3-v-3 are required to be registered with UDEF and classified as TOUR COMPETITORS. Such TOUR COMPETITOR registrations can be completed online at: www.udeftour.org/register/\nCompetitors must confirm their registrations with UDEF as TOUR COMPETITORS with Cracker Zacks to be eligible to compete in the bboy/bgirl battles\, and to be added to the official registration list for this Pro Breaking Tour Future Series competition. Please Inbox (via Facebook) Cracker Zacks the 3 emails used to register on the UDEF website\, along with the bboy/bgirl names from each crew. Please mention you are signing up for HEARTZ & MINDZ. Your message should include 3 emails\, 3 bboy/bgirl names\, 1 crew name\, and mention HEARTZ & MINDZ.\n!!!!!!!!!!!!!!!!!EXBO’S !!!!!!!!!!!!\n***************RAW-DAWG EXBO*****\n___________MOKS VS OMEN_____\n***************BODY COUNT EXBO*****\n_____AIRTIME-ATLAS VS THE BLAKATAK____\n***************SICK & TWIZTED*******\n_____NICK ABAT VS INVERTEBRATE________\n***********SUPREME COURT**********************\nSUPER INLIGHT- STICK AND MOVE CREW\nOMEGA- GROUND SYNDROME KILLAZ\nMIJO- MOTION DISODERZ\nALL-STYLEZ ARENA\n************************\n#####2V2 ALL-STYLEZ ######\nSQUAD UP AND SEDUCE THE ROOM WITH YOUR ESSENCE AND PURITY\n******”POP YOUR CHERRY”****\nA RAPID FIRE POPPIN’ COMPETITION FOR POPPERS THAT HAVE NEVER WON A POPPIN’ BATTLE…\n*STYLE COUNCIL*\nK-SOUL- VENUS FLYTRAP\nFABULOUS FREDDY- HOUSE OF FERRE’\nCRITICAL- ROLDARE NATION\nDJ’S\nMANoFGOD AKA KING GENIUS\nSE7EN\nFASTMONEY MIKE\nHOSTED BY WAYNE GRAVY & BRAVEMONK\n!!!!!!!!!!!!!!!!!!!!!!!!!!!!!!!!!!!!!!!!!!!!!!!!!!!!!!!!!!!!!!!!!!!!!!!!!!!!!!!!!!!!!!!!\nA SPECIAL PERFORMANCE BY THE YO-YO PHENOM\n***************”BEN CONDE”************\nDJ’s\nLESTER BURNEM’\nEDOUBLE\nHOSTED BY AMS & BRAVEMONK\nTHANK YOU FOR YOUR SUPPORT…\nROLDARE NATION\nFollow on Instagram: @silverbackbboyevents @probreakingtour
URL:https://powerstyleradio.com/events/heartz-mindz-pt-deux/
LOCATION:Steinmetz College Prep\, 3030 North Mobile Avenue\, Chicago\, IL\, 60634\, United States
CATEGORIES:Battles
ATTACH;FMTTYPE=image/jpeg:https://powerstyleradio.com/wp-content/uploads/2015/01/HeartzMinds.jpg
END:VEVENT
BEGIN:VEVENT
DTSTART;TZID=America/Chicago:20150213T190000
DTEND;TZID=America/Chicago:20150214T020000
DTSTAMP:20260424T153425
CREATED:20150208T180133Z
LAST-MODIFIED:20150208T180854Z
UID:370-1423854000-1423879200@powerstyleradio.com
SUMMARY:Cupid's All-styles Throwdown!
DESCRIPTION:Stylin’ Out Events & DJ Virgil7 Presents:\n“Cupid’s All-styles Throwdown!”\nA Valentine’s\nAllstyles 1v1 dance battle $100.00 prize\n21+\n$4 Cover\nA fundraising event for “Lake County’s Best Breaker”\n——–Link to LCBB HERE———-\nhttps://www.facebook.com/events/980083282005525/\n\nWe are battling in a bar\, remind bringing your ID’s its 21+++++++\n-Drink Specials\nTequila Sunrise $4\nJack & Coke $3.75\nCranberry Vodka $3\n-Split The Pot Raffles! $2 raffle tickets starting pot at $20\nBATTLES START AT 8:30\n1V1 All- Styles Battle\nPrize: $100\nSign-up here now below\, or at the day of the event.\nJudges\n1. Sidd – CODA WORLD\n2. Di#it Lee – Electric Funketeers\n3. Wayne Gravy – Connect Force/Stylin Out\nDJ: Virgil7 (Se7en) – Stylin Out \nMC: Twigg Fresh – Stylin Out/Crooks Crew
URL:https://powerstyleradio.com/events/cupids-all-styles-throwdown/
LOCATION:Trojanek’s Lounge\, 4216 W 63rd St\, \, Chicago\, IL\, 60629\, United States
CATEGORIES:Battles
ATTACH;FMTTYPE=image/jpeg:https://powerstyleradio.com/wp-content/uploads/2015/02/All-styles-Valentines.jpg
END:VEVENT
BEGIN:VEVENT
DTSTART;TZID=America/Chicago:20150131T120000
DTEND;TZID=America/Chicago:20150131T220000
DTSTAMP:20260424T153425
CREATED:20150126T203955Z
LAST-MODIFIED:20150126T204147Z
UID:357-1422705600-1422741600@powerstyleradio.com
SUMMARY:6th Annual Vocalo Winter Block Party
DESCRIPTION:Hip-hop has long brought people together who’ve fought for social justice. \nCelebrate its present and future during the day with film\, music videos\, B-boy/B-girl dance battle\, a poetry/storytelling slam\, Vocalo’s DJ Collective and a Hip-Hop Marketplace. \nThe FREE daytime schedule includes: \n12:00PM  \nMain Floor ||  B-Boy/B-Girl Dance Battle Sign Up \n12:30PM\nSmart Bar || Free Screening of “RIZE” \n1:00PM    \nMain Floor || B-Boy/B-Girl Dance Battle Prelims \n2:00PM    \nMain Floor || Street Gear Fashion Show (featuring Alex Carter\, GoWhere HipHop\, City of Win and others)\nPeople’s Choice Music Videos \n2:30PM \nSmart Bar || Winter Block Party Wordplay \n3:00PM  \nMain Floor || B-Boy/B-Girl Dance Battle Quarters \n4:00PM  \nMain Floor || DLOW\nPeople’s Choice Videos \nSmart Bar || Track Workshop \n5:00PM   \nMain Floor || B-Boy/B-Girl Dance Battle Semis \nAlso\, throughout the day and night hear from Vocalo’s DJ Collective featuring Shazam Bangles\, Pumpin Pete and Shred One led by Jesse De La Pena. \nPlus\, $10 fade haircuts\, a Hip Hop Art Gallery (curated by Kevin Coval and Chicago Truborn) and a Hip Hop Boutique with vendors including GoWhere HipHop\, City of Win\, Alex Carter and others! \nIn the evening\, join us for a ticketed concert blow-out! \n7:00PM\nMain Floor || B-Boy/B-Girl Dance Battle FINALS\nLTAB Mixtape Release Concert featuring Mick Jenkins\, Show You Suck\, Saba\, NoName\, and Daryn Alexus \nTickets to the evening performances are $10.00 (General Public) and $6.00 for students (the site states $9.00 and $5.00 but there s an added restoration fee…) \nTickets are on sale NOW!\nClick here to purchase tickets for the evening performances!
URL:https://powerstyleradio.com/events/6th-annual-vocalo-winter-block-party/
LOCATION:IL
CATEGORIES:Battles
ATTACH;FMTTYPE=image/jpeg:https://powerstyleradio.com/wp-content/uploads/2015/01/wbp_2015.jpg
END:VEVENT
BEGIN:VEVENT
DTSTART;TZID=America/Chicago:20150115T220000
DTEND;TZID=America/Chicago:20150116T020000
DTSTAMP:20260424T153425
CREATED:20150113T013224Z
LAST-MODIFIED:20150113T221626Z
UID:154-1421359200-1421373600@powerstyleradio.com
SUMMARY:NUMB3R RUNNERS! Vol. 3
DESCRIPTION:#NINJACHURCH & Evil Olive Present:\nNUMB3R RUNNERS\nA New Chicago Club Experience\nHOW IT WORKS\n1. Take a number at the door\n2. Enjoy yourself\n3. Win Numb3r Runner prizes for having fun\n4. Win Numb3r Runner prizes if your number is called\n5. Just that easy\n6. No strings attached\nTONS OF PRIZES up for grabs\, including:\n– Champagne Bottle Service & Shots for 7 @ February’s NUMB3R RUNNERS\n– Handcrafted El La Jewelry and Swagcessories\n– Seek The Geek gift certificates\n21+ to enter\nNO COVER\nPBR Tallboy w/Jameson shot $8 Special\nCelebrating ManOfGod & his twin bro Ace Boog’s upgrade from v2.9 to v3.0!\nAND…\n1×1 Open Styles Battle for all you competitive party people\n$100 Cash Prize & Plaque\nJudges’ Court\nFunkyMon (Electric Funketeers)\nAmirah aka Suga Mama\nOmega (Them Bad Apples)\nMusic provided by Ninja Church DJs\n— Fast$Mike\n— Vilas Park Sniper\nEvent hosted by NinjaChurch MCs\nEl La Katrina + AMS
URL:https://powerstyleradio.com/events/numb3r-runners-vol-3/
LOCATION:evilOlive\, 1551 West Division Street\,  Chicago\, IL\, 60622\, United States
CATEGORIES:Battles
ATTACH;FMTTYPE=image/jpeg:https://powerstyleradio.com/wp-content/uploads/2015/01/NumberRunners.jpg
END:VEVENT
END:VCALENDAR